BEGIN:VCALENDAR
VERSION:2.0
PRODID:-//FiredUp | Paint Your Own Pottery and More - Pittsburgh, PA - ECPv6.15.20//NONSGML v1.0//EN
CALSCALE:GREGORIAN
METHOD:PUBLISH
X-WR-CALNAME:FiredUp | Paint Your Own Pottery and More - Pittsburgh, PA
X-ORIGINAL-URL:https://www.firedupwithus.com
X-WR-CALDESC:Events for FiredUp | Paint Your Own Pottery and More - Pittsburgh, PA
REFRESH-INTERVAL;VALUE=DURATION:PT1H
X-Robots-Tag:noindex
X-PUBLISHED-TTL:PT1H
BEGIN:VTIMEZONE
TZID:America/New_York
BEGIN:DAYLIGHT
TZOFFSETFROM:-0500
TZOFFSETTO:-0400
TZNAME:EDT
DTSTART:20240310T070000
END:DAYLIGHT
BEGIN:STANDARD
TZOFFSETFROM:-0400
TZOFFSETTO:-0500
TZNAME:EST
DTSTART:20241103T060000
END:STANDARD
BEGIN:DAYLIGHT
TZOFFSETFROM:-0500
TZOFFSETTO:-0400
TZNAME:EDT
DTSTART:20250309T070000
END:DAYLIGHT
BEGIN:STANDARD
TZOFFSETFROM:-0400
TZOFFSETTO:-0500
TZNAME:EST
DTSTART:20251102T060000
END:STANDARD
BEGIN:DAYLIGHT
TZOFFSETFROM:-0500
TZOFFSETTO:-0400
TZNAME:EDT
DTSTART:20260308T070000
END:DAYLIGHT
BEGIN:STANDARD
TZOFFSETFROM:-0400
TZOFFSETTO:-0500
TZNAME:EST
DTSTART:20261101T060000
END:STANDARD
END:VTIMEZONE
BEGIN:VEVENT
DTSTART;TZID=America/New_York:20251105T100000
DTEND;TZID=America/New_York:20251105T120000
DTSTAMP:20260422T000452
CREATED:20251010T203032Z
LAST-MODIFIED:20251010T203032Z
UID:22772-1762336800-1762344000@www.firedupwithus.com
SUMMARY:Clay Tree Hand Building
DESCRIPTION:
URL:https://www.firedupwithus.com/event/clay-tree-hand-building/
CATEGORIES:Adult Classes,Classes and Events,Clay
ATTACH;FMTTYPE=image/jpeg:https://www.firedupwithus.com/wp-content/uploads/2025/10/clay-xmas-trees-scaled.jpg
END:VEVENT
BEGIN:VEVENT
DTSTART;TZID=America/New_York:20251109T100000
DTEND;TZID=America/New_York:20251109T120000
DTSTAMP:20260422T000452
CREATED:20251010T203701Z
LAST-MODIFIED:20251010T203749Z
UID:22776-1762682400-1762689600@www.firedupwithus.com
SUMMARY:Clay Tree Hand Building
DESCRIPTION:
URL:https://www.firedupwithus.com/event/clay-tree-hand-building-2/
CATEGORIES:Adult Classes,Classes and Events,Clay
END:VEVENT
BEGIN:VEVENT
DTSTART;TZID=America/New_York:20251122T100000
DTEND;TZID=America/New_York:20251122T120000
DTSTAMP:20260422T000452
CREATED:20251009T224658Z
LAST-MODIFIED:20251009T224658Z
UID:22761-1763805600-1763812800@www.firedupwithus.com
SUMMARY:Fused Glass Poinsettia Dish
DESCRIPTION:
URL:https://www.firedupwithus.com/event/fused-glass-poinsettia-dish/
CATEGORIES:Adult Classes,Glass
ATTACH;FMTTYPE=image/jpeg:https://www.firedupwithus.com/wp-content/uploads/2025/10/poinsettia-dish-scaled.jpg
END:VEVENT
BEGIN:VEVENT
DTSTART;TZID=America/New_York:20251123T100000
DTEND;TZID=America/New_York:20251123T120000
DTSTAMP:20260422T000452
CREATED:20251010T201020Z
LAST-MODIFIED:20251010T201338Z
UID:22768-1763892000-1763899200@www.firedupwithus.com
SUMMARY:Holiday Plate
DESCRIPTION:
URL:https://www.firedupwithus.com/event/holiday-plate/
CATEGORIES:Adult Classes,Classes and Events
END:VEVENT
END:VCALENDAR