BEGIN:VCALENDAR
VERSION:2.0
PRODID:-//FiredUp | Paint Your Own Pottery and More - Pittsburgh, PA - ECPv6.15.20//NONSGML v1.0//EN
CALSCALE:GREGORIAN
METHOD:PUBLISH
X-ORIGINAL-URL:https://www.firedupwithus.com
X-WR-CALDESC:Events for FiredUp | Paint Your Own Pottery and More - Pittsburgh, PA
REFRESH-INTERVAL;VALUE=DURATION:PT1H
X-Robots-Tag:noindex
X-PUBLISHED-TTL:PT1H
BEGIN:VTIMEZONE
TZID:America/New_York
BEGIN:DAYLIGHT
TZOFFSETFROM:-0500
TZOFFSETTO:-0400
TZNAME:EDT
DTSTART:20230312T070000
END:DAYLIGHT
BEGIN:STANDARD
TZOFFSETFROM:-0400
TZOFFSETTO:-0500
TZNAME:EST
DTSTART:20231105T060000
END:STANDARD
BEGIN:DAYLIGHT
TZOFFSETFROM:-0500
TZOFFSETTO:-0400
TZNAME:EDT
DTSTART:20240310T070000
END:DAYLIGHT
BEGIN:STANDARD
TZOFFSETFROM:-0400
TZOFFSETTO:-0500
TZNAME:EST
DTSTART:20241103T060000
END:STANDARD
BEGIN:DAYLIGHT
TZOFFSETFROM:-0500
TZOFFSETTO:-0400
TZNAME:EDT
DTSTART:20250309T070000
END:DAYLIGHT
BEGIN:STANDARD
TZOFFSETFROM:-0400
TZOFFSETTO:-0500
TZNAME:EST
DTSTART:20251102T060000
END:STANDARD
BEGIN:DAYLIGHT
TZOFFSETFROM:-0500
TZOFFSETTO:-0400
TZNAME:EDT
DTSTART:20260308T070000
END:DAYLIGHT
BEGIN:STANDARD
TZOFFSETFROM:-0400
TZOFFSETTO:-0500
TZNAME:EST
DTSTART:20261101T060000
END:STANDARD
END:VTIMEZONE
BEGIN:VEVENT
DTSTART;TZID=America/New_York:20251023T173000
DTEND;TZID=America/New_York:20251023T190000
DTSTAMP:20260423T060745
CREATED:20251009T220825Z
LAST-MODIFIED:20251009T220825Z
UID:22756-1761240600-1761246000@www.firedupwithus.com
SUMMARY:Halloween Capybara
DESCRIPTION:
URL:https://www.firedupwithus.com/event/halloween-capybara/
CATEGORIES:Classes and Events,Kids Classes
ATTACH;FMTTYPE=image/jpeg:https://www.firedupwithus.com/wp-content/uploads/2025/10/capybara-plate-halloween-scaled.jpg
END:VEVENT
BEGIN:VEVENT
DTSTART;TZID=America/New_York:20250712T100000
DTEND;TZID=America/New_York:20250712T113000
DTSTAMP:20260423T060745
CREATED:20250414T180431Z
LAST-MODIFIED:20250414T180431Z
UID:22284-1752314400-1752319800@www.firedupwithus.com
SUMMARY:Kids Fused Glass Sunflower
DESCRIPTION:
URL:https://www.firedupwithus.com/event/kids-fused-glass-sunflower/
CATEGORIES:Glass,Kids Classes
END:VEVENT
BEGIN:VEVENT
DTSTART;TZID=America/New_York:20250503T100000
DTEND;TZID=America/New_York:20250503T233000
DTSTAMP:20260423T060745
CREATED:20250414T165733Z
LAST-MODIFIED:20250424T173753Z
UID:22250-1746266400-1746315000@www.firedupwithus.com
SUMMARY:Sunflower Suncatcher
DESCRIPTION:
URL:https://www.firedupwithus.com/event/sunflower-suncatcher/
CATEGORIES:Adult Classes,Classes and Events,Glass,Kids Classes
ATTACH;FMTTYPE=image/jpeg:https://www.firedupwithus.com/wp-content/uploads/2025/04/clear-sunflower.jpg
END:VEVENT
BEGIN:VEVENT
DTSTART;TZID=America/New_York:20250315T100000
DTEND;TZID=America/New_York:20250315T120000
DTSTAMP:20260423T060745
CREATED:20250305T011057Z
LAST-MODIFIED:20250311T210423Z
UID:21928-1742032800-1742040000@www.firedupwithus.com
SUMMARY:T Swift
DESCRIPTION:Screenshot
URL:https://www.firedupwithus.com/event/t-swift/
CATEGORIES:Classes and Events,Kids Classes
ATTACH;FMTTYPE=image/jpeg:https://www.firedupwithus.com/wp-content/uploads/2025/03/T-swift-class-hand-full-vase.jpg
END:VEVENT
BEGIN:VEVENT
DTSTART;TZID=America/New_York:20241027T100000
DTEND;TZID=America/New_York:20241027T113000
DTSTAMP:20260423T060745
CREATED:20241003T232439Z
LAST-MODIFIED:20241003T232439Z
UID:21582-1730023200-1730028600@www.firedupwithus.com
SUMMARY:Pumpkins Pumpkins and More Pumpkins!
DESCRIPTION:
URL:https://www.firedupwithus.com/event/pumpkins-pumpkins-and-more-pumpkins/
CATEGORIES:Adult Classes,Classes and Events,Clay,Kids Classes
ATTACH;FMTTYPE=image/jpeg:https://www.firedupwithus.com/wp-content/uploads/2024/10/Pumpkins-scaled.jpg
END:VEVENT
BEGIN:VEVENT
DTSTART;TZID=America/New_York:20240504T160000
DTEND;TZID=America/New_York:20240504T173000
DTSTAMP:20260423T060745
CREATED:20240402T205257Z
LAST-MODIFIED:20240402T205257Z
UID:21211-1714838400-1714843800@www.firedupwithus.com
SUMMARY:Glass Animals
DESCRIPTION:
URL:https://www.firedupwithus.com/event/glass-animals/
CATEGORIES:Classes and Events,Glass,Kids Classes
ATTACH;FMTTYPE=image/jpeg:https://www.firedupwithus.com/wp-content/uploads/2024/04/organic-glass-animals.jpg
END:VEVENT
END:VCALENDAR