BEGIN:VCALENDAR
VERSION:2.0
PRODID:-//FiredUp | Paint Your Own Pottery and More - Pittsburgh, PA - ECPv6.15.20//NONSGML v1.0//EN
CALSCALE:GREGORIAN
METHOD:PUBLISH
X-WR-CALNAME:FiredUp | Paint Your Own Pottery and More - Pittsburgh, PA
X-ORIGINAL-URL:https://www.firedupwithus.com
X-WR-CALDESC:Events for FiredUp | Paint Your Own Pottery and More - Pittsburgh, PA
REFRESH-INTERVAL;VALUE=DURATION:PT1H
X-Robots-Tag:noindex
X-PUBLISHED-TTL:PT1H
BEGIN:VTIMEZONE
TZID:America/New_York
BEGIN:DAYLIGHT
TZOFFSETFROM:-0500
TZOFFSETTO:-0400
TZNAME:EDT
DTSTART:20230312T070000
END:DAYLIGHT
BEGIN:STANDARD
TZOFFSETFROM:-0400
TZOFFSETTO:-0500
TZNAME:EST
DTSTART:20231105T060000
END:STANDARD
BEGIN:DAYLIGHT
TZOFFSETFROM:-0500
TZOFFSETTO:-0400
TZNAME:EDT
DTSTART:20240310T070000
END:DAYLIGHT
BEGIN:STANDARD
TZOFFSETFROM:-0400
TZOFFSETTO:-0500
TZNAME:EST
DTSTART:20241103T060000
END:STANDARD
BEGIN:DAYLIGHT
TZOFFSETFROM:-0500
TZOFFSETTO:-0400
TZNAME:EDT
DTSTART:20250309T070000
END:DAYLIGHT
BEGIN:STANDARD
TZOFFSETFROM:-0400
TZOFFSETTO:-0500
TZNAME:EST
DTSTART:20251102T060000
END:STANDARD
END:VTIMEZONE
BEGIN:VEVENT
DTSTART;TZID=America/New_York:20240708T100000
DTEND;TZID=America/New_York:20240708T120000
DTSTAMP:20260425T073500
CREATED:20240302T172042Z
LAST-MODIFIED:20240302T172042Z
UID:21049-1720432800-1720440000@www.firedupwithus.com
SUMMARY:Fairy House - Summer Camp
DESCRIPTION:Its Magical Summer Camp theme week is all about make-believe! We will be painting and decorating fairy house boxes to hold your magical treasures. And we wouldn’t think about a fairy house without a fairy! Miss Jane has some fun plans for our young artists. 
URL:https://www.firedupwithus.com/event/fairy-house-summer-camp/
CATEGORIES:Summer Camps
END:VEVENT
BEGIN:VEVENT
DTSTART;TZID=America/New_York:20240710T100000
DTEND;TZID=America/New_York:20240710T120000
DTSTAMP:20260425T073500
CREATED:20240302T172339Z
LAST-MODIFIED:20240302T172339Z
UID:21054-1720605600-1720612800@www.firedupwithus.com
SUMMARY:Harry Potter - Summer Camp
DESCRIPTION:How can you create magic without a magical wand? Let’s paint our own! This is a two-project camp so we will also paint our own Harry Potter canvas. 
URL:https://www.firedupwithus.com/event/harry-potter-summer-camp/
CATEGORIES:Summer Camps
END:VEVENT
BEGIN:VEVENT
DTSTART;TZID=America/New_York:20240711T100000
DTEND;TZID=America/New_York:20240711T120000
DTSTAMP:20260425T073500
CREATED:20240302T172513Z
LAST-MODIFIED:20240302T172605Z
UID:21058-1720692000-1720699200@www.firedupwithus.com
SUMMARY:Dragons - Summer Camp
DESCRIPTION:Dragons\, Dragon\, Dragons….we have some fun techniques to share with you to paint your own dragon egg and egg stand.
URL:https://www.firedupwithus.com/event/dragons-summer-camp/
CATEGORIES:Summer Camps
END:VEVENT
BEGIN:VEVENT
DTSTART;TZID=America/New_York:20240715T100000
DTEND;TZID=America/New_York:20240715T120000
DTSTAMP:20260425T073500
CREATED:20240302T172706Z
LAST-MODIFIED:20240302T172706Z
UID:21062-1721037600-1721044800@www.firedupwithus.com
SUMMARY:Clay Creations - Summer Camp
DESCRIPTION:In this clay hand building class\, you will learn how to create pinch pots and sea creatures! Whether real or make-believe\, your creation will be one of a kind. Let’s get messy! 
URL:https://www.firedupwithus.com/event/clay-creations-summer-camp/
CATEGORIES:Summer Camps
END:VEVENT
BEGIN:VEVENT
DTSTART;TZID=America/New_York:20240717T100000
DTEND;TZID=America/New_York:20240717T120000
DTSTAMP:20260425T073500
CREATED:20240302T172846Z
LAST-MODIFIED:20240302T172846Z
UID:21066-1721210400-1721217600@www.firedupwithus.com
SUMMARY:Glass Fish - Summer Camp
DESCRIPTION:Who else loves creating with fused glass!? If you’re new to fused glass or a seasoned pro you’ll be sure to learn something fun in this fused glass fish camp.
URL:https://www.firedupwithus.com/event/glass-fish-summer-camp/
CATEGORIES:Summer Camps
END:VEVENT
BEGIN:VEVENT
DTSTART;TZID=America/New_York:20240718T100000
DTEND;TZID=America/New_York:20240718T120000
DTSTAMP:20260425T073500
CREATED:20240302T173035Z
LAST-MODIFIED:20240302T173035Z
UID:21069-1721296800-1721304000@www.firedupwithus.com
SUMMARY:Axolotl - Summer Camp
DESCRIPTION:These guys are just the cutest and always seem to be smiling! We will be transferring our axolotl onto a plate to make you smile each time you set the table! 
URL:https://www.firedupwithus.com/event/axolotl-summer-camp/
CATEGORIES:Summer Camps
END:VEVENT
BEGIN:VEVENT
DTSTART;TZID=America/New_York:20240722T100000
DTEND;TZID=America/New_York:20240722T120000
DTSTAMP:20260425T073500
CREATED:20240302T173254Z
LAST-MODIFIED:20240712T190053Z
UID:21073-1721642400-1721649600@www.firedupwithus.com
SUMMARY:Color Theory - Summer Camp
DESCRIPTION:Have you ever wondered how colors relate and work together in paintings? This class will explore analogous color sets\, tints and shades with acrylic paint. Come create two landscape canvases that can work together as a single art piece or stand alone.
URL:https://www.firedupwithus.com/event/color-theory-summer-camp/
CATEGORIES:Summer Camps
END:VEVENT
BEGIN:VEVENT
DTSTART;TZID=America/New_York:20240724T100000
DTEND;TZID=America/New_York:20240724T120000
DTSTAMP:20260425T073500
CREATED:20240302T173502Z
LAST-MODIFIED:20240302T173502Z
UID:21074-1721815200-1721822400@www.firedupwithus.com
SUMMARY:Pointillism - Summer Camp
DESCRIPTION:Branching from Impressionism\, Pointillism is a technique of painting in which small\, distinct dots of color are applied in patterns to form an image or design. This technique will be applied to a party animal! Which bisque will you pick? A hedgehog\, frog\, panda bear\, jelly fish? Maybe even a princess or mermaid! 
URL:https://www.firedupwithus.com/event/pointillism-summer-camp/
CATEGORIES:Summer Camps
END:VEVENT
BEGIN:VEVENT
DTSTART;TZID=America/New_York:20240725T100000
DTEND;TZID=America/New_York:20240725T120000
DTSTAMP:20260425T073500
CREATED:20240302T173643Z
LAST-MODIFIED:20240302T173643Z
UID:21080-1721901600-1721908800@www.firedupwithus.com
SUMMARY:Van Gogh - Summer Camp
DESCRIPTION:One of the most famous and influential figures in the history of Western art. Van Gogh drink coasters will be the project in this summer camp class. Each coaster will reflect each artists creativity. 
URL:https://www.firedupwithus.com/event/van-gogh-summer-camp/
CATEGORIES:Summer Camps
END:VEVENT
BEGIN:VEVENT
DTSTART;TZID=America/New_York:20240729T100000
DTEND;TZID=America/New_York:20240729T120000
DTSTAMP:20260425T073500
CREATED:20240302T173812Z
LAST-MODIFIED:20240302T173812Z
UID:21084-1722247200-1722254400@www.firedupwithus.com
SUMMARY:Glass Nightlight - Summer Camp
DESCRIPTION:Who else loves nightlights? Why not create your own? In this fused glass class\, we’ll lead you step by step to design any animal or pet you can imagine! 
URL:https://www.firedupwithus.com/event/glass-nightlight-summer-camp/
CATEGORIES:Summer Camps
END:VEVENT
BEGIN:VEVENT
DTSTART;TZID=America/New_York:20240731T100000
DTEND;TZID=America/New_York:20240731T120000
DTSTAMP:20260425T073500
CREATED:20240302T174019Z
LAST-MODIFIED:20240302T174019Z
UID:21088-1722420000-1722427200@www.firedupwithus.com
SUMMARY:Clay Nesting Dolls - Summer Camp
DESCRIPTION:Time to make a special pet set! Learn about clay hand building pinch pots and coils to create your own unique series of animals. Make your perfect pet family!
URL:https://www.firedupwithus.com/event/clay-nesting-dolls-summer-camp/
CATEGORIES:Summer Camps
END:VEVENT
END:VCALENDAR