BEGIN:VCALENDAR
VERSION:2.0
PRODID:-//FiredUp | Paint Your Own Pottery and More - Pittsburgh, PA - ECPv6.15.20//NONSGML v1.0//EN
CALSCALE:GREGORIAN
METHOD:PUBLISH
X-WR-CALNAME:FiredUp | Paint Your Own Pottery and More - Pittsburgh, PA
X-ORIGINAL-URL:https://www.firedupwithus.com
X-WR-CALDESC:Events for FiredUp | Paint Your Own Pottery and More - Pittsburgh, PA
REFRESH-INTERVAL;VALUE=DURATION:PT1H
X-Robots-Tag:noindex
X-PUBLISHED-TTL:PT1H
BEGIN:VTIMEZONE
TZID:America/New_York
BEGIN:DAYLIGHT
TZOFFSETFROM:-0500
TZOFFSETTO:-0400
TZNAME:EDT
DTSTART:20230312T070000
END:DAYLIGHT
BEGIN:STANDARD
TZOFFSETFROM:-0400
TZOFFSETTO:-0500
TZNAME:EST
DTSTART:20231105T060000
END:STANDARD
BEGIN:DAYLIGHT
TZOFFSETFROM:-0500
TZOFFSETTO:-0400
TZNAME:EDT
DTSTART:20240310T070000
END:DAYLIGHT
BEGIN:STANDARD
TZOFFSETFROM:-0400
TZOFFSETTO:-0500
TZNAME:EST
DTSTART:20241103T060000
END:STANDARD
BEGIN:DAYLIGHT
TZOFFSETFROM:-0500
TZOFFSETTO:-0400
TZNAME:EDT
DTSTART:20250309T070000
END:DAYLIGHT
BEGIN:STANDARD
TZOFFSETFROM:-0400
TZOFFSETTO:-0500
TZNAME:EST
DTSTART:20251102T060000
END:STANDARD
END:VTIMEZONE
BEGIN:VEVENT
DTSTART;TZID=America/New_York:20240801T100000
DTEND;TZID=America/New_York:20240801T120000
DTSTAMP:20260425T090643
CREATED:20240302T174145Z
LAST-MODIFIED:20240711T211029Z
UID:21093-1722506400-1722513600@www.firedupwithus.com
SUMMARY:Pet Watercolor - Summer Camp
DESCRIPTION:What kind of a pet do you have? A dog\, cat\, fish\, snake? Bring in a photo of your pet and we will be using watercolor as our medium to create your fury…or wet pet!
URL:https://www.firedupwithus.com/event/pet-watercolor-summer-camp/
CATEGORIES:Summer Camps
END:VEVENT
BEGIN:VEVENT
DTSTART;TZID=America/New_York:20240805T100000
DTEND;TZID=America/New_York:20240805T120000
DTSTAMP:20260425T090643
CREATED:20240302T174339Z
LAST-MODIFIED:20240302T174339Z
UID:21092-1722852000-1722859200@www.firedupwithus.com
SUMMARY:Dino Dash - Summer Camp
DESCRIPTION:Fused glass dinosaurs! Will your dinosaur be roaming the grassy fields or wandering near a volcano? We’ll be adding hooks to hang your prehistorical art.
URL:https://www.firedupwithus.com/event/dino-dash-summer-camp/
CATEGORIES:Summer Camps
END:VEVENT
BEGIN:VEVENT
DTSTART;TZID=America/New_York:20240807T100000
DTEND;TZID=America/New_York:20240807T120000
DTSTAMP:20260425T090643
CREATED:20240302T174523Z
LAST-MODIFIED:20240302T174523Z
UID:21100-1723024800-1723032000@www.firedupwithus.com
SUMMARY:Ice Cream Bowl - Summer Camp
DESCRIPTION:I scream you scream we all scream for ice cream! August is hot so let’s paint our own ice cream bowl! Add chocolate sauce and rainbow sprinkles. What would an ice cream painting class be without the ice cream! This cold treat will be provided in this summer camp class. 
URL:https://www.firedupwithus.com/event/ice-cream-bowl-summer-camp/
CATEGORIES:Summer Camps
END:VEVENT
BEGIN:VEVENT
DTSTART;TZID=America/New_York:20240808T100000
DTEND;TZID=America/New_York:20240808T120000
DTSTAMP:20260425T090643
CREATED:20240302T174652Z
LAST-MODIFIED:20240302T174652Z
UID:21104-1723111200-1723118400@www.firedupwithus.com
SUMMARY:Dino or Trefoil Mug - Summer Camp
DESCRIPTION:Pick between a dinosaur or a flower mug! So many creative options. This is our last summer camp class so let’s have some fun! 
URL:https://www.firedupwithus.com/event/dino-or-trefoil-mug-summer-camp/
CATEGORIES:Summer Camps
END:VEVENT
END:VCALENDAR