BEGIN:VCALENDAR
VERSION:2.0
PRODID:-//FiredUp | Paint Your Own Pottery and More - Pittsburgh, PA - ECPv6.15.20//NONSGML v1.0//EN
CALSCALE:GREGORIAN
METHOD:PUBLISH
X-ORIGINAL-URL:https://www.firedupwithus.com
X-WR-CALDESC:Events for FiredUp | Paint Your Own Pottery and More - Pittsburgh, PA
REFRESH-INTERVAL;VALUE=DURATION:PT1H
X-Robots-Tag:noindex
X-PUBLISHED-TTL:PT1H
BEGIN:VTIMEZONE
TZID:America/New_York
BEGIN:DAYLIGHT
TZOFFSETFROM:-0500
TZOFFSETTO:-0400
TZNAME:EDT
DTSTART:20250309T070000
END:DAYLIGHT
BEGIN:STANDARD
TZOFFSETFROM:-0400
TZOFFSETTO:-0500
TZNAME:EST
DTSTART:20251102T060000
END:STANDARD
BEGIN:DAYLIGHT
TZOFFSETFROM:-0500
TZOFFSETTO:-0400
TZNAME:EDT
DTSTART:20260308T070000
END:DAYLIGHT
BEGIN:STANDARD
TZOFFSETFROM:-0400
TZOFFSETTO:-0500
TZNAME:EST
DTSTART:20261101T060000
END:STANDARD
BEGIN:DAYLIGHT
TZOFFSETFROM:-0500
TZOFFSETTO:-0400
TZNAME:EDT
DTSTART:20270314T070000
END:DAYLIGHT
BEGIN:STANDARD
TZOFFSETFROM:-0400
TZOFFSETTO:-0500
TZNAME:EST
DTSTART:20271107T060000
END:STANDARD
END:VTIMEZONE
BEGIN:VEVENT
DTSTART;TZID=America/New_York:20260610T100000
DTEND;TZID=America/New_York:20260610T120000
DTSTAMP:20260422T084503
CREATED:20260207T185850Z
LAST-MODIFIED:20260228T020919Z
UID:23041-1781085600-1781092800@www.firedupwithus.com
SUMMARY:Week 1 - Sports Fan - Summer Camp
DESCRIPTION:Join us for this two-day camp.\nWednesday\, June 10 & Thursday\, June 11 | 10am-Noon/Ages 6+ \nGet ready for a week where sports and creativity collide! During Sports Fan Week\, campers will celebrate their favorite sport/team through hands-on art projects. Projects include but not limited to a fused glass nightlight and a sports box for their keepsake items.  \nNEW – “Look the Part!”\nSelect the ‘with Camp T-shirt’ option when booking below to reserve your official 2026 Summer Camp shirt! \nDeadline to Reserve T-Shirts: May 15\, 2026 \n 
URL:https://www.firedupwithus.com/event/week-1-sports-fan-camp-2026/
CATEGORIES:Summer Camps
END:VEVENT
BEGIN:VEVENT
DTSTART;TZID=America/New_York:20260615T100000
DTEND;TZID=America/New_York:20260615T120000
DTSTAMP:20260422T084503
CREATED:20260207T210146Z
LAST-MODIFIED:20260228T021204Z
UID:23059-1781517600-1781524800@www.firedupwithus.com
SUMMARY:Week 2  - Capybara - Summer Camp
DESCRIPTION:Join us for this two-day camp.\nMonday\, June 15th & Wednesday\, June 17th | 10am-Noon/Ages 6+ \nThis will be the cutest week of summer! During Capybara Week\, campers will be inspired by everyone’s favorite chill animal while exploring a variety of creative art projects. Perfect for animal lovers and young artists alike.  \nNEW – “Look the Part!”\nSelect the ‘with Camp T-shirt’ option when booking below to reserve your official 2026 Summer Camp shirt! \nDeadline to Reserve T-Shirts: May 15\, 2026 \n 
URL:https://www.firedupwithus.com/event/week-2-capybara-camp-2026/
CATEGORIES:Summer Camps
END:VEVENT
BEGIN:VEVENT
DTSTART;TZID=America/New_York:20260622T100000
DTEND;TZID=America/New_York:20260622T120000
DTSTAMP:20260422T084503
CREATED:20260207T210808Z
LAST-MODIFIED:20260228T021259Z
UID:23064-1782122400-1782129600@www.firedupwithus.com
SUMMARY:Week 3  - Axolotl - Summer Camp
DESCRIPTION:Join us for this two-day camp.\nMonday\, June 22 & Wednesday\, June 24 | 10am-Noon/Ages 6+ \nThis week encourages creativity\, curiosity and lots of fun as campers experiment with different materials and bring their aquatic creatures to life.  \nNEW – “Look the Part!”\nSelect the ‘with Camp T-shirt’ option when booking below to reserve your official 2026 Summer Camp shirt! \nDeadline to Reserve T-Shirts: May 15\, 2026 \n 
URL:https://www.firedupwithus.com/event/week-3-axolotl-camp-2026/
CATEGORIES:Summer Camps
END:VEVENT
BEGIN:VEVENT
DTSTART;TZID=America/New_York:20260629T100000
DTEND;TZID=America/New_York:20260629T120000
DTSTAMP:20260422T084503
CREATED:20260207T211715Z
LAST-MODIFIED:20260228T021443Z
UID:23068-1782727200-1782734400@www.firedupwithus.com
SUMMARY:Week 4 - Book Lovers - Summer Camp
DESCRIPTION:Join us for this two-day camp.\nMonday\, June 29 & Wednesday\, July 1 | 10am-Noon/Ages 6+ \nCalling all readers and storytellers! During Book Lovers & Book Exchange Week\, campers will celebrate their favorite stories through creative art projects and a fun book swap experience. \nBe sure to bring a gently used book to swap! \nNEW – “Look the Part!”\nSelect the ‘with Camp T-shirt’ option when booking below to reserve your official 2026 Summer Camp shirt! \nDeadline to Reserve T-Shirts: May 15\, 2026 \n 
URL:https://www.firedupwithus.com/event/week-4-book-lovers-camp-2026/
CATEGORIES:Summer Camps
END:VEVENT
BEGIN:VEVENT
DTSTART;TZID=America/New_York:20260708T100000
DTEND;TZID=America/New_York:20260708T120000
DTSTAMP:20260422T084503
CREATED:20260207T212518Z
LAST-MODIFIED:20260228T021554Z
UID:23073-1783504800-1783512000@www.firedupwithus.com
SUMMARY:Week 5 - Christmas in July - Summer Camp
DESCRIPTION:Join us for this two-day camp.\nWednesday\, July 8 & Thursday\, July 9 | 10am-Noon/Ages 6+ \nWho says holiday magic has to wait for winter? During Christmas in July Week\, campers will celebrate the joy of the season with cheerful\, creative art projects full of sparkle and summer fun!  \nNEW – “Look the Part!”\nSelect the ‘with Camp T-shirt’ option when booking below to reserve your official 2026 Summer Camp shirt! \nDeadline to Reserve T-Shirts: May 15\, 2026 \n 
URL:https://www.firedupwithus.com/event/week-5-christmas-in-july-camp-2026/
CATEGORIES:Summer Camps
END:VEVENT
BEGIN:VEVENT
DTSTART;TZID=America/New_York:20260713T100000
DTEND;TZID=America/New_York:20260713T120000
DTSTAMP:20260422T084503
CREATED:20260207T212923Z
LAST-MODIFIED:20260228T021625Z
UID:23077-1783936800-1783944000@www.firedupwithus.com
SUMMARY:Week 6 - Dragons Lair - Summer Camp
DESCRIPTION:Join us for this two-day camp.\nMonday\, July 13 & Wednesday\, July 15 | 10am-Noon/Ages 6+ \nStep into a world of magic and imagination! During Dragon’s Lair Week\, campers will create fantasy-inspired art while exploring mythical creatures and bold colors. Perfect for kids who love fantasy and hand-on art! \nNEW – “Look the Part!”\nSelect the ‘with Camp T-shirt’ option when booking below to reserve your official 2026 Summer Camp shirt! \nDeadline to Reserve T-Shirts: May 15\, 2026 \n 
URL:https://www.firedupwithus.com/event/week-6-dragons-lair-camp-2026/
CATEGORIES:Summer Camps
END:VEVENT
BEGIN:VEVENT
DTSTART;TZID=America/New_York:20260720T100000
DTEND;TZID=America/New_York:20260720T120000
DTSTAMP:20260422T084503
CREATED:20260207T213355Z
LAST-MODIFIED:20260228T021636Z
UID:23081-1784541600-1784548800@www.firedupwithus.com
SUMMARY:Week 7 - Highland Cow - Summer Camp
DESCRIPTION:Join us for this two-day camp.\nMonday\, July 20th & Wednesday\, July 22nd | 10am-Noon/Ages 6+ \nGet inspired by the charm of everyone’s favorite fluffy farm animal! Highland Cow Week\, is all about creativity\, imagination\, and having fun in a relaxed\, encouraging studio environment.  \nNEW – “Look the Part!”\nSelect the ‘with Camp T-shirt’ option when booking below to reserve your official 2026 Summer Camp shirt! \nDeadline to Reserve T-Shirts: May 15\, 2026 \n 
URL:https://www.firedupwithus.com/event/week-7-highland-cow-camp-2026/
CATEGORIES:Summer Camps
END:VEVENT
BEGIN:VEVENT
DTSTART;TZID=America/New_York:20260727T100000
DTEND;TZID=America/New_York:20260727T120000
DTSTAMP:20260422T084503
CREATED:20260207T215041Z
LAST-MODIFIED:20260228T021653Z
UID:23098-1785146400-1785153600@www.firedupwithus.com
SUMMARY:Week 8 - End of Summer Ice Cream Social - Summer Camp
DESCRIPTION:Join us for this two-day camp.\nMonday\, July 27 & Wednesday\, July 29 | 10am-Noon/Ages 6+ \nLet’s celebrate an amazing summer of creativity! Our End-of-Summer Ice Cream Social is a fun\, joyful send off and a perfect way to celebrate a summer full of imagination and memories. Campers will enjoy a sweet ice cream treat as we wrap up the summer together!  \nNEW – “Look the Part!”\nSelect the ‘with Camp T-shirt’ option when booking below to reserve your official 2026 Summer Camp shirt! \nDeadline to Reserve T-Shirts: May 15\, 2026 \n 
URL:https://www.firedupwithus.com/event/week-8-end-of-summer-ice-cream-social-2026/
CATEGORIES:Summer Camps
END:VEVENT
END:VCALENDAR